BEGIN:VCALENDAR
VERSION:2.0
PRODID:-//CIURMA - ECPv6.15.18//NONSGML v1.0//EN
CALSCALE:GREGORIAN
METHOD:PUBLISH
X-WR-CALNAME:CIURMA
X-ORIGINAL-URL:https://ciurma.org
X-WR-CALDESC:Eventi per CIURMA
REFRESH-INTERVAL;VALUE=DURATION:PT1H
X-Robots-Tag:noindex
X-PUBLISHED-TTL:PT1H
BEGIN:VTIMEZONE
TZID:Europe/Rome
BEGIN:DAYLIGHT
TZOFFSETFROM:+0100
TZOFFSETTO:+0200
TZNAME:CEST
DTSTART:20250330T010000
END:DAYLIGHT
BEGIN:STANDARD
TZOFFSETFROM:+0200
TZOFFSETTO:+0100
TZNAME:CET
DTSTART:20251026T010000
END:STANDARD
BEGIN:DAYLIGHT
TZOFFSETFROM:+0100
TZOFFSETTO:+0200
TZNAME:CEST
DTSTART:20260329T010000
END:DAYLIGHT
BEGIN:STANDARD
TZOFFSETFROM:+0200
TZOFFSETTO:+0100
TZNAME:CET
DTSTART:20261025T010000
END:STANDARD
BEGIN:DAYLIGHT
TZOFFSETFROM:+0100
TZOFFSETTO:+0200
TZNAME:CEST
DTSTART:20270328T010000
END:DAYLIGHT
BEGIN:STANDARD
TZOFFSETFROM:+0200
TZOFFSETTO:+0100
TZNAME:CET
DTSTART:20271031T010000
END:STANDARD
END:VTIMEZONE
BEGIN:VEVENT
DTSTART;TZID=Europe/Rome:20260419T143000
DTEND;TZID=Europe/Rome:20260419T143000
DTSTAMP:20260419T170447
CREATED:20260414T112116Z
LAST-MODIFIED:20260414T112644Z
UID:662-1776609000-1776609000@ciurma.org
SUMMARY:WORKSHOP_The space between
DESCRIPTION:Introduzione all’improvvisazione libera e non idiomatica. \nCorpo\, ascolto\, interazione e ricerca sonora a cura di Lorenzo Binotti. \n 
URL:https://ciurma.org/eventi/workshop_the-space-between/
LOCATION:Teatro Tiberini\, via Mario Tiberini\, 3\, San Lorenzo in campo\, Pesaro e Urbino\, 61047\, Italy
ATTACH;FMTTYPE=image/png:https://ciurma.org/wp-content/uploads/2026/04/THE-SPACE-BETWEEN.png
END:VEVENT
BEGIN:VEVENT
DTSTART;TZID=Europe/Rome:20260419T210000
DTEND;TZID=Europe/Rome:20260419T210000
DTSTAMP:20260419T170447
CREATED:20260414T112309Z
LAST-MODIFIED:20260414T112704Z
UID:668-1776632400-1776632400@ciurma.org
SUMMARY:CONCERTO_The space between
DESCRIPTION:LIMS Electroacoustic Ensemble \nMusiche di:\nLorenzo Binotti\nKarlheinz Stockhausen\nFilippo Angeloni \nUn viaggio tra suono\, spazio e percezione.
URL:https://ciurma.org/eventi/concerto_the-space-between/
LOCATION:Teatro Tiberini\, via Mario Tiberini\, 3\, San Lorenzo in campo\, Pesaro e Urbino\, 61047\, Italy
ATTACH;FMTTYPE=image/png:https://ciurma.org/wp-content/uploads/2026/04/THE-SPACE-BETWEEN.png
END:VEVENT
END:VCALENDAR