BEGIN:VCALENDAR
VERSION:2.0
PRODID:-//CIURMA - ECPv6.15.18//NONSGML v1.0//EN
CALSCALE:GREGORIAN
METHOD:PUBLISH
X-WR-CALNAME:CIURMA
X-ORIGINAL-URL:https://ciurma.org
X-WR-CALDESC:Eventi per CIURMA
REFRESH-INTERVAL;VALUE=DURATION:PT1H
X-Robots-Tag:noindex
X-PUBLISHED-TTL:PT1H
BEGIN:VTIMEZONE
TZID:Europe/Rome
BEGIN:DAYLIGHT
TZOFFSETFROM:+0100
TZOFFSETTO:+0200
TZNAME:CEST
DTSTART:20250330T010000
END:DAYLIGHT
BEGIN:STANDARD
TZOFFSETFROM:+0200
TZOFFSETTO:+0100
TZNAME:CET
DTSTART:20251026T010000
END:STANDARD
BEGIN:DAYLIGHT
TZOFFSETFROM:+0100
TZOFFSETTO:+0200
TZNAME:CEST
DTSTART:20260329T010000
END:DAYLIGHT
BEGIN:STANDARD
TZOFFSETFROM:+0200
TZOFFSETTO:+0100
TZNAME:CET
DTSTART:20261025T010000
END:STANDARD
BEGIN:DAYLIGHT
TZOFFSETFROM:+0100
TZOFFSETTO:+0200
TZNAME:CEST
DTSTART:20270328T010000
END:DAYLIGHT
BEGIN:STANDARD
TZOFFSETFROM:+0200
TZOFFSETTO:+0100
TZNAME:CET
DTSTART:20271031T010000
END:STANDARD
END:VTIMEZONE
BEGIN:VEVENT
DTSTART;TZID=Europe/Rome:20260423T150000
DTEND;TZID=Europe/Rome:20260423T170000
DTSTAMP:20260420T081707
CREATED:20260407T175133Z
LAST-MODIFIED:20260407T175133Z
UID:651-1776956400-1776963600@ciurma.org
SUMMARY:G.A.S. NOMADE_consegna
DESCRIPTION:Consegna settimanale dei prodotti acquistati tramite il G.A.S. Nomade di Fossombrone (G.A.S. – Gruppo di Acquisto Solidale) e distribuiti sul territorio attraverso una rete di staffette. \nQuesto giovedì consegna: \n-produttori locali \n-frutta secca Chico Mendes
URL:https://ciurma.org/eventi/g-a-s-nomade_consegna-3/
LOCATION:Sede Gas Nomade\, via Largo Tiratore\, 3\, Fossombrone\, 61034\, Italy
CATEGORIES:EVENTO CIURMA
END:VEVENT
BEGIN:VEVENT
DTSTART;TZID=Europe/Rome:20260430T150000
DTEND;TZID=Europe/Rome:20260430T170000
DTSTAMP:20260420T081707
CREATED:20260407T175228Z
LAST-MODIFIED:20260407T175228Z
UID:653-1777561200-1777568400@ciurma.org
SUMMARY:G.A.S. NOMADE_consegna
DESCRIPTION:Consegna settimanale dei prodotti acquistati tramite il G.A.S. Nomade di Fossombrone (G.A.S. – Gruppo di Acquisto Solidale) e distribuiti sul territorio attraverso una rete di staffette. \nQuesto giovedì consegna: \n-produttori locali \n 
URL:https://ciurma.org/eventi/g-a-s-nomade_consegna-4/
LOCATION:Sede Gas Nomade\, via Largo Tiratore\, 3\, Fossombrone\, 61034\, Italy
CATEGORIES:EVENTO CIURMA
END:VEVENT
BEGIN:VEVENT
DTSTART;TZID=Europe/Rome:20260503T100000
DTEND;TZID=Europe/Rome:20260503T170000
DTSTAMP:20260420T081707
CREATED:20260409T181418Z
LAST-MODIFIED:20260409T181418Z
UID:658-1777802400-1777827600@ciurma.org
SUMMARY:CORSO_teorico e pratico di fermentazione
DESCRIPTION:Avremo il grande piacere di ospitare qui ad Alpaca Mundi una giornata sulla fermentazione con Manuela Vanni\, appassionata di cucina e profonda conoscitrice di questo tema. Sarà una giornata in cui imparare\, approfondire e provare varie tecniche di fermentazione: dal kimchi al kefir. \nGusteremo insieme un ottimo pranzo con prodotti locali e verdure fermentate in compagnia dei nostri alpaca. \nISCRIZIONI APERTE FINO AL 25 APRILE
URL:https://ciurma.org/eventi/corso_teorico-e-pratico-di-fermentazione/
LOCATION:Az. Agricola Alpaca Mundi\, Vocabolo Sant'Angelo\, 20\, Collantico - Pietralunga\, Perugia\, 06026\, Italy
ATTACH;FMTTYPE=image/jpeg:https://ciurma.org/wp-content/uploads/2026/04/corso-fermentazione.jpeg
END:VEVENT
BEGIN:VEVENT
DTSTART;TZID=Europe/Rome:20260517T090000
DTEND;TZID=Europe/Rome:20260517T170000
DTSTAMP:20260420T081707
CREATED:20260407T174816Z
LAST-MODIFIED:20260407T174816Z
UID:647-1779008400-1779037200@ciurma.org
SUMMARY:FESTA MIRALFIORE
DESCRIPTION:In corso di programmazione.
URL:https://ciurma.org/eventi/festa-miralfiore/
LOCATION:Fano\, Fano\, Italy
END:VEVENT
BEGIN:VEVENT
DTSTART;TZID=Europe/Rome:20260524T100000
DTEND;TZID=Europe/Rome:20260524T170000
DTSTAMP:20260420T081707
CREATED:20260415T170736Z
LAST-MODIFIED:20260415T171306Z
UID:679-1779616800-1779642000@ciurma.org
SUMMARY:FESTA_La quercia alchemica
DESCRIPTION:Con il collettivo Arborea stiamo organizzando la terza edizione di  “La quercia alchemica”. Il tema di quest’anno è “il cibo che cura”. Ci saranno alcune conferenze e laboratori\, pranzo a km 0 e concerto delle BRAVISSIME Damaramá.\nStiamo cercando produttori locali per allestire l’area mercatino. Gli stand possono essere alimentari e non\, che abbiano un minimo di attinenza col contesto. Non si paga niente\, e garantiamo il pasto agli standisti. La location è molto bucolica\, vicino alla chiesetta di Onferno su un prato. Lo specifico perché non è una “festa di paese” con passaggio di fiumane di genti\, ma un contesto più selezionato e raccolto.
URL:https://ciurma.org/eventi/mercatino/
LOCATION:ONFERNO\, Grotte di Onferno\, Gemmano\, Rimini\, 47855\, Italy
END:VEVENT
BEGIN:VEVENT
DTSTART;TZID=Europe/Rome:20260529T140000
DTEND;TZID=Europe/Rome:20260529T180000
DTSTAMP:20260420T081707
CREATED:20260323T111125Z
LAST-MODIFIED:20260407T174136Z
UID:570-1780063200-1780077600@ciurma.org
SUMMARY:G.D.L. CASSA MUTUA_corso di formazione con MAG6
DESCRIPTION:2° incontro di preparazione per il percorso di formazione con MAG6\, per dare a CIURMA gli strumenti per sostenere lo svluppo delle realtà progettuali sul nostro territorio. \n“Come si costruisce un bilancio previsionale di un progetto\, a partire da un caso studio (prima puntata)”
URL:https://ciurma.org/eventi/cassa-mutua_corso-di-formazione-con-mag6-copy-3/
LOCATION:Centro Salomone\, Piazza Capuana\, 4\, Fano\, 61032\, Italy
CATEGORIES:EVENTO CIURMA
ATTACH;FMTTYPE=image/jpeg:https://ciurma.org/wp-content/uploads/2026/03/incontri-Mag6.jpeg
END:VEVENT
BEGIN:VEVENT
DTSTART;TZID=Europe/Rome:20260619T140000
DTEND;TZID=Europe/Rome:20260619T180000
DTSTAMP:20260420T081707
CREATED:20260323T110609Z
LAST-MODIFIED:20260407T174220Z
UID:554-1781877600-1781892000@ciurma.org
SUMMARY:G.D.L. CASSA MUTUA_corso di formazione con MAG6
DESCRIPTION:3° incontro di preparazione per il percorso di formazione con MAG6\, per dare a CIURMA gli strumenti per sostenere lo svluppo delle realtà progettuali sul nostro territorio. \n“Come si costruisce un bilancio previsionale di un progetto\, a partire da un caso studio (seconda puntata)”
URL:https://ciurma.org/eventi/cassa-mutua_corso-di-formazione-con-mag6/
LOCATION:Centro Salomone\, Piazza Capuana\, 4\, Fano\, 61032\, Italy
CATEGORIES:EVENTO CIURMA
ATTACH;FMTTYPE=image/jpeg:https://ciurma.org/wp-content/uploads/2026/03/incontri-Mag6.jpeg
END:VEVENT
END:VCALENDAR