BEGIN:VCALENDAR
VERSION:2.0
PRODID:-//CIURMA - ECPv6.15.18//NONSGML v1.0//EN
CALSCALE:GREGORIAN
METHOD:PUBLISH
X-ORIGINAL-URL:https://ciurma.org
X-WR-CALDESC:Eventi per CIURMA
REFRESH-INTERVAL;VALUE=DURATION:PT1H
X-Robots-Tag:noindex
X-PUBLISHED-TTL:PT1H
BEGIN:VTIMEZONE
TZID:Europe/Rome
BEGIN:DAYLIGHT
TZOFFSETFROM:+0100
TZOFFSETTO:+0200
TZNAME:CEST
DTSTART:20250330T010000
END:DAYLIGHT
BEGIN:STANDARD
TZOFFSETFROM:+0200
TZOFFSETTO:+0100
TZNAME:CET
DTSTART:20251026T010000
END:STANDARD
BEGIN:DAYLIGHT
TZOFFSETFROM:+0100
TZOFFSETTO:+0200
TZNAME:CEST
DTSTART:20260329T010000
END:DAYLIGHT
BEGIN:STANDARD
TZOFFSETFROM:+0200
TZOFFSETTO:+0100
TZNAME:CET
DTSTART:20261025T010000
END:STANDARD
BEGIN:DAYLIGHT
TZOFFSETFROM:+0100
TZOFFSETTO:+0200
TZNAME:CEST
DTSTART:20270328T010000
END:DAYLIGHT
BEGIN:STANDARD
TZOFFSETFROM:+0200
TZOFFSETTO:+0100
TZNAME:CET
DTSTART:20271031T010000
END:STANDARD
END:VTIMEZONE
BEGIN:VEVENT
DTSTART;TZID=Europe/Rome:20260313T193000
DTEND;TZID=Europe/Rome:20260313T193000
DTSTAMP:20260420T085317
CREATED:20260310T155706Z
LAST-MODIFIED:20260323T105023Z
UID:499-1773430200-1773430200@ciurma.org
SUMMARY:CORO CIURMA
DESCRIPTION:
URL:https://ciurma.org/eventi/coro-ciurma/
LOCATION:casa Giulia e Enrico\, Parrocchia S.Venanzio\, 5\, Fossombrone\, PU\, 61034\, Italy
CATEGORIES:EVENTO CIURMA
END:VEVENT
BEGIN:VEVENT
DTSTART;TZID=Europe/Rome:20260313T210000
DTEND;TZID=Europe/Rome:20260313T210000
DTSTAMP:20260420T085317
CREATED:20260310T155857Z
LAST-MODIFIED:20260323T110006Z
UID:501-1773435600-1773435600@ciurma.org
SUMMARY:PROGETTO CHIOMA & TRONCO_riunione
DESCRIPTION:Riunione finale del progetto “La chioma e il tronco” per decidere a chi devoldere il ricavato
URL:https://ciurma.org/eventi/riunione-ct/
LOCATION:casa Giulia e Enrico\, Parrocchia S.Venanzio\, 5\, Fossombrone\, PU\, 61034\, Italy
CATEGORIES:EVENTO CIURMA
END:VEVENT
BEGIN:VEVENT
DTSTART;TZID=Europe/Rome:20260320T210000
DTEND;TZID=Europe/Rome:20260320T210000
DTSTAMP:20260420T085317
CREATED:20260310T155306Z
LAST-MODIFIED:20260323T105945Z
UID:486-1774040400-1774040400@ciurma.org
SUMMARY:CIURMA_riunione
DESCRIPTION:
URL:https://ciurma.org/eventi/riunione-ciurma/
LOCATION:casa Giulia e Enrico\, Parrocchia S.Venanzio\, 5\, Fossombrone\, PU\, 61034\, Italy
CATEGORIES:EVENTO CIURMA
END:VEVENT
BEGIN:VEVENT
DTSTART;TZID=Europe/Rome:20260323T140000
DTEND;TZID=Europe/Rome:20260323T180000
DTSTAMP:20260420T085317
CREATED:20260323T112135Z
LAST-MODIFIED:20260407T173618Z
UID:579-1774274400-1774288800@ciurma.org
SUMMARY:G.D.L. CASSA MUTUA_corso di formazione con MAG6
DESCRIPTION:Incontro preliminare di preparazione per il percorso di formazione con MAG6\, per dare a CIURMA gli strumenti per sostenere lo svluppo delle realtà progettuali sul nostro territorio. \nG.D.L. _ Gruppo Di Lavoro
URL:https://ciurma.org/eventi/g-d-l-cassa-mutua_corso-di-formazione-con-mag6/
LOCATION:Mag6\, Via Roberto Vittorangeli\, 7/c\, Reggio Emilia\, 42122\, Italy
CATEGORIES:EVENTO CIURMA
END:VEVENT
BEGIN:VEVENT
DTSTART;TZID=Europe/Rome:20260324T210000
DTEND;TZID=Europe/Rome:20260324T210000
DTSTAMP:20260420T085317
CREATED:20260323T093425Z
LAST-MODIFIED:20260323T105928Z
UID:527-1774386000-1774386000@ciurma.org
SUMMARY:CIURMA_riunione
DESCRIPTION:Ore 20 cena condivisa. \nODG: \n-gruppo lavoro struttura \n-confronto su riunione del 20/03
URL:https://ciurma.org/eventi/riunione-ciurma-2/
LOCATION:casa Giulia e Enrico\, Parrocchia S.Venanzio\, 5\, Fossombrone\, PU\, 61034\, Italy
CATEGORIES:EVENTO CIURMA
END:VEVENT
BEGIN:VEVENT
DTSTART;TZID=Europe/Rome:20260326T150000
DTEND;TZID=Europe/Rome:20260326T170000
DTSTAMP:20260420T085317
CREATED:20260323T102227Z
LAST-MODIFIED:20260323T112618Z
UID:543-1774537200-1774544400@ciurma.org
SUMMARY:G.A.S. NOMADE_consegna
DESCRIPTION:Consegna settimanale dei prodotti acquistati tramite il G.A.S. Nomade di Fossombrone e distribuiti sul territorio attraverso un gruppo affiatato di staffette!! \nG.A.S. – Gruppo di Acquisto Solidale
URL:https://ciurma.org/eventi/consegna-gas-nomade/
LOCATION:Sede Gas Nomade\, via Largo Tiratore\, 3\, Fossombrone\, 61034\, Italy
CATEGORIES:EVENTO CIURMA
END:VEVENT
BEGIN:VEVENT
DTSTART;TZID=Europe/Rome:20260402T150000
DTEND;TZID=Europe/Rome:20260402T170000
DTSTAMP:20260420T085317
CREATED:20260323T102332Z
LAST-MODIFIED:20260326T091825Z
UID:548-1775142000-1775149200@ciurma.org
SUMMARY:G.A.S. NOMADE_consegna
DESCRIPTION:Consegna settimanale dei prodotti acquistati tramite il G.A.S. Nomade di Fossombrone (G.A.S. – Gruppo di Acquisto Solidale) e distribuiti sul territorio attraverso una rete di staffette. \nQuesto giovedì consegna: \n-produttori locali \n-S.O.S. Rosarno \n 
URL:https://ciurma.org/eventi/gas-nomade/
LOCATION:Sede Gas Nomade\, via Largo Tiratore\, 3\, Fossombrone\, 61034\, Italy
CATEGORIES:EVENTO CIURMA
END:VEVENT
BEGIN:VEVENT
DTSTART;TZID=Europe/Rome:20260403T190000
DTEND;TZID=Europe/Rome:20260403T220000
DTSTAMP:20260420T085317
CREATED:20260401T164137Z
LAST-MODIFIED:20260407T174621Z
UID:631-1775242800-1775253600@ciurma.org
SUMMARY:G.D.L. La Chioma e il Tronco
DESCRIPTION:Ci vediamo nel magazzino di Barchi per decidere come andare avanti con il progetto e capire cosa fare della pasta rimasta!
URL:https://ciurma.org/eventi/gdl-chioma-e-tronco/
LOCATION:Pesaro e Urbino
CATEGORIES:EVENTO CIURMA
END:VEVENT
BEGIN:VEVENT
DTSTART;TZID=Europe/Rome:20260408T080000
DTEND;TZID=Europe/Rome:20260408T120000
DTSTAMP:20260420T085317
CREATED:20260407T174537Z
LAST-MODIFIED:20260407T174537Z
UID:645-1775635200-1775649600@ciurma.org
SUMMARY:G.A.S. NOMADE_pulizie
DESCRIPTION:Sistemazione e pulizie della sede del G.A.S. Nomade. Partecipazione aperta a tutti.
URL:https://ciurma.org/eventi/g-a-s-nomade_pulizie/
LOCATION:Sede Gas Nomade\, via Largo Tiratore\, 3\, Fossombrone\, 61034\, Italy
CATEGORIES:EVENTO CIURMA
END:VEVENT
BEGIN:VEVENT
DTSTART;TZID=Europe/Rome:20260409T150000
DTEND;TZID=Europe/Rome:20260409T170000
DTSTAMP:20260420T085317
CREATED:20260326T091411Z
LAST-MODIFIED:20260326T091918Z
UID:604-1775746800-1775754000@ciurma.org
SUMMARY:G.A.S. NOMADE_consegna
DESCRIPTION:Consegna settimanale dei prodotti acquistati tramite il G.A.S. Nomade di Fossombrone (G.A.S. – Gruppo di Acquisto Solidale) e distribuiti sul territorio attraverso una rete di staffette. \nQuesto giovedì consegna: \n-produttori locali \n-Diego D’Aloisio
URL:https://ciurma.org/eventi/g-a-s-nomade_consegna/
LOCATION:Sede Gas Nomade\, via Largo Tiratore\, 3\, Fossombrone\, 61034\, Italy
CATEGORIES:EVENTO CIURMA
END:VEVENT
BEGIN:VEVENT
DTSTART;TZID=Europe/Rome:20260410T193000
DTEND;TZID=Europe/Rome:20260410T193000
DTSTAMP:20260420T085317
CREATED:20260323T100429Z
LAST-MODIFIED:20260326T085213Z
UID:534-1775849400-1775849400@ciurma.org
SUMMARY:CORO CIURMA
DESCRIPTION:Incontro del coro di Ciurma per condividere musica\, parole\, canzoni\, pensieri e divertimento. Cena condivisa a seguire.
URL:https://ciurma.org/eventi/coro-ciurma-2/
LOCATION:casa Giulia e Enrico\, Parrocchia S.Venanzio\, 5\, Fossombrone\, PU\, 61034\, Italy
CATEGORIES:EVENTO CIURMA
END:VEVENT
BEGIN:VEVENT
DTSTART;TZID=Europe/Rome:20260410T210000
DTEND;TZID=Europe/Rome:20260410T210000
DTSTAMP:20260420T085317
CREATED:20260326T091113Z
LAST-MODIFIED:20260407T172440Z
UID:601-1775854800-1775854800@ciurma.org
SUMMARY:CIURMA_riunione monotematica per GDL STRUTTURA
DESCRIPTION:ODG: \n-ripresa lettura e sistemazione del documento del Gruppo Di Lavoro STRUTTURA (vedi allegato) \n-gruppi di lavoro per arrivare ad avere delle schede che facilitino l’ingresso in CIURMA ai nuovi arrivati e che aiutino chi già fa parte della comunità a migliorare \n-breve report per modalità di sostegno al progetto di Erika (cucito) \n-informativa sugli incontri Mag6 e la sostenibilità condivisa
URL:https://ciurma.org/eventi/ciurma_riunione-per-gdl-struttura/
LOCATION:casa Giulia e Enrico\, Parrocchia S.Venanzio\, 5\, Fossombrone\, PU\, 61034\, Italy
CATEGORIES:EVENTO CIURMA
ATTACH;FMTTYPE=application/pdf:https://ciurma.org/wp-content/uploads/2026/03/CIURMA_documento-assemblea-1.pdf
END:VEVENT
BEGIN:VEVENT
DTSTART;TZID=Europe/Rome:20260411T100000
DTEND;TZID=Europe/Rome:20260411T100000
DTSTAMP:20260420T085317
CREATED:20260326T094259Z
LAST-MODIFIED:20260407T172807Z
UID:610-1775901600-1775901600@ciurma.org
SUMMARY:UN GELSO BIANCO IN MEMORIA DI MATTEO
DESCRIPTION:In ricordo di Matteo Borgogelli Ottaviani\, produttore dell’azienda agricola Kirkaia\, venuto a mancare il 27/02/2026\, verrà piantato un gelso bianco sulla proprietà di Mea e Alfredo\, in modo da creare un momento per la comunità per salutarlo e omaggiarlo. Un’occasione per chi non è riuscito a trovare un momento collettivo per salutarlo.
URL:https://ciurma.org/eventi/pianta-per-matteo/
LOCATION:casa Mea e Alfredo\, 43°36'34.7"N 12°49'56.7"E\, Cartoceto di Pergola\, Pesaro e Urbino\, 61045\, Italy
CATEGORIES:EVENTO CIURMA
END:VEVENT
BEGIN:VEVENT
DTSTART;TZID=Europe/Rome:20260414T203000
DTEND;TZID=Europe/Rome:20260414T203000
DTSTAMP:20260420T085317
CREATED:20260407T180530Z
LAST-MODIFIED:20260414T111119Z
UID:655-1776198600-1776198600@ciurma.org
SUMMARY:G.D.L. La Chioma e il Tronco_riunione con Spoletini
DESCRIPTION:Riunione con Samuele Spoletini del Molino Spoletini di Arcevia e i produttori di cereali di Ciurma\, in modo da creare una rete e comprendere come utilizzare al meglio il ricavato dalle vendite della pasta ex “La terra e il cielo”. \nCena condivisa alle 19.30
URL:https://ciurma.org/eventi/g-d-l-la-chioma-e-il-tronco_riunione-con-spoletini/
LOCATION:casa Mea e Alfredo\, 43°36'34.7"N 12°49'56.7"E\, Cartoceto di Pergola\, Pesaro e Urbino\, 61045\, Italy
CATEGORIES:EVENTO CIURMA
END:VEVENT
BEGIN:VEVENT
DTSTART;TZID=Europe/Rome:20260416T150000
DTEND;TZID=Europe/Rome:20260416T170000
DTSTAMP:20260420T085317
CREATED:20260407T175034Z
LAST-MODIFIED:20260407T175034Z
UID:649-1776351600-1776358800@ciurma.org
SUMMARY:G.A.S. NOMADE_consegna
DESCRIPTION:Consegna settimanale dei prodotti acquistati tramite il G.A.S. Nomade di Fossombrone (G.A.S. – Gruppo di Acquisto Solidale) e distribuiti sul territorio attraverso una rete di staffette. \nQuesto giovedì consegna: \n-produttori locali \n 
URL:https://ciurma.org/eventi/g-a-s-nomade_consegna-2/
LOCATION:Sede Gas Nomade\, via Largo Tiratore\, 3\, Fossombrone\, 61034\, Italy
CATEGORIES:EVENTO CIURMA
END:VEVENT
BEGIN:VEVENT
DTSTART;TZID=Europe/Rome:20260422T140000
DTEND;TZID=Europe/Rome:20260422T180000
DTSTAMP:20260420T085317
CREATED:20260323T111725Z
LAST-MODIFIED:20260407T173825Z
UID:576-1776866400-1776880800@ciurma.org
SUMMARY:G.D.L. CASSA MUTUA_corso di formazione con MAG6
DESCRIPTION:1° incontro di preparazione per il percorso di formazione con MAG6\, per dare a CIURMA gli strumenti per sostenere lo svluppo delle realtà progettuali sul nostro territorio.\n“Lessico e i concetti economici finanziari di base (incontro libero)”
URL:https://ciurma.org/eventi/cassa-mutua/
LOCATION:Centro Salomone\, Piazza Capuana\, 4\, Fano\, 61032\, Italy
CATEGORIES:EVENTO CIURMA
ATTACH;FMTTYPE=image/jpeg:https://ciurma.org/wp-content/uploads/2026/03/incontri-Mag6.jpeg
END:VEVENT
BEGIN:VEVENT
DTSTART;TZID=Europe/Rome:20260423T150000
DTEND;TZID=Europe/Rome:20260423T170000
DTSTAMP:20260420T085317
CREATED:20260407T175133Z
LAST-MODIFIED:20260407T175133Z
UID:651-1776956400-1776963600@ciurma.org
SUMMARY:G.A.S. NOMADE_consegna
DESCRIPTION:Consegna settimanale dei prodotti acquistati tramite il G.A.S. Nomade di Fossombrone (G.A.S. – Gruppo di Acquisto Solidale) e distribuiti sul territorio attraverso una rete di staffette. \nQuesto giovedì consegna: \n-produttori locali \n-frutta secca Chico Mendes
URL:https://ciurma.org/eventi/g-a-s-nomade_consegna-3/
LOCATION:Sede Gas Nomade\, via Largo Tiratore\, 3\, Fossombrone\, 61034\, Italy
CATEGORIES:EVENTO CIURMA
END:VEVENT
BEGIN:VEVENT
DTSTART;TZID=Europe/Rome:20260430T150000
DTEND;TZID=Europe/Rome:20260430T170000
DTSTAMP:20260420T085317
CREATED:20260407T175228Z
LAST-MODIFIED:20260407T175228Z
UID:653-1777561200-1777568400@ciurma.org
SUMMARY:G.A.S. NOMADE_consegna
DESCRIPTION:Consegna settimanale dei prodotti acquistati tramite il G.A.S. Nomade di Fossombrone (G.A.S. – Gruppo di Acquisto Solidale) e distribuiti sul territorio attraverso una rete di staffette. \nQuesto giovedì consegna: \n-produttori locali \n 
URL:https://ciurma.org/eventi/g-a-s-nomade_consegna-4/
LOCATION:Sede Gas Nomade\, via Largo Tiratore\, 3\, Fossombrone\, 61034\, Italy
CATEGORIES:EVENTO CIURMA
END:VEVENT
BEGIN:VEVENT
DTSTART;TZID=Europe/Rome:20260529T140000
DTEND;TZID=Europe/Rome:20260529T180000
DTSTAMP:20260420T085317
CREATED:20260323T111125Z
LAST-MODIFIED:20260407T174136Z
UID:570-1780063200-1780077600@ciurma.org
SUMMARY:G.D.L. CASSA MUTUA_corso di formazione con MAG6
DESCRIPTION:2° incontro di preparazione per il percorso di formazione con MAG6\, per dare a CIURMA gli strumenti per sostenere lo svluppo delle realtà progettuali sul nostro territorio. \n“Come si costruisce un bilancio previsionale di un progetto\, a partire da un caso studio (prima puntata)”
URL:https://ciurma.org/eventi/cassa-mutua_corso-di-formazione-con-mag6-copy-3/
LOCATION:Centro Salomone\, Piazza Capuana\, 4\, Fano\, 61032\, Italy
CATEGORIES:EVENTO CIURMA
ATTACH;FMTTYPE=image/jpeg:https://ciurma.org/wp-content/uploads/2026/03/incontri-Mag6.jpeg
END:VEVENT
BEGIN:VEVENT
DTSTART;TZID=Europe/Rome:20260619T140000
DTEND;TZID=Europe/Rome:20260619T180000
DTSTAMP:20260420T085317
CREATED:20260323T110609Z
LAST-MODIFIED:20260407T174220Z
UID:554-1781877600-1781892000@ciurma.org
SUMMARY:G.D.L. CASSA MUTUA_corso di formazione con MAG6
DESCRIPTION:3° incontro di preparazione per il percorso di formazione con MAG6\, per dare a CIURMA gli strumenti per sostenere lo svluppo delle realtà progettuali sul nostro territorio. \n“Come si costruisce un bilancio previsionale di un progetto\, a partire da un caso studio (seconda puntata)”
URL:https://ciurma.org/eventi/cassa-mutua_corso-di-formazione-con-mag6/
LOCATION:Centro Salomone\, Piazza Capuana\, 4\, Fano\, 61032\, Italy
CATEGORIES:EVENTO CIURMA
ATTACH;FMTTYPE=image/jpeg:https://ciurma.org/wp-content/uploads/2026/03/incontri-Mag6.jpeg
END:VEVENT
END:VCALENDAR