BEGIN:VCALENDAR
VERSION:2.0
PRODID:-//CIURMA - ECPv6.15.18//NONSGML v1.0//EN
CALSCALE:GREGORIAN
METHOD:PUBLISH
X-ORIGINAL-URL:https://ciurma.org
X-WR-CALDESC:Eventi per CIURMA
REFRESH-INTERVAL;VALUE=DURATION:PT1H
X-Robots-Tag:noindex
X-PUBLISHED-TTL:PT1H
BEGIN:VTIMEZONE
TZID:Europe/Rome
BEGIN:DAYLIGHT
TZOFFSETFROM:+0100
TZOFFSETTO:+0200
TZNAME:CEST
DTSTART:20250330T010000
END:DAYLIGHT
BEGIN:STANDARD
TZOFFSETFROM:+0200
TZOFFSETTO:+0100
TZNAME:CET
DTSTART:20251026T010000
END:STANDARD
BEGIN:DAYLIGHT
TZOFFSETFROM:+0100
TZOFFSETTO:+0200
TZNAME:CEST
DTSTART:20260329T010000
END:DAYLIGHT
BEGIN:STANDARD
TZOFFSETFROM:+0200
TZOFFSETTO:+0100
TZNAME:CET
DTSTART:20261025T010000
END:STANDARD
BEGIN:DAYLIGHT
TZOFFSETFROM:+0100
TZOFFSETTO:+0200
TZNAME:CEST
DTSTART:20270328T010000
END:DAYLIGHT
BEGIN:STANDARD
TZOFFSETFROM:+0200
TZOFFSETTO:+0100
TZNAME:CET
DTSTART:20271031T010000
END:STANDARD
END:VTIMEZONE
BEGIN:VEVENT
DTSTART;TZID=Europe/Rome:20260416T000000
DTEND;TZID=Europe/Rome:20260419T000000
DTSTAMP:20260419T171441
CREATED:20260324T084847Z
LAST-MODIFIED:20260328T085525Z
UID:591-1776297600-1776556800@ciurma.org
SUMMARY:GENUINO CLANDESTINO_raduno di primavera
DESCRIPTION:Raduno intergalattico di primavera di Genuino Clandestino (comunità in lotta per l’autodeterminazione alimentare)
URL:https://ciurma.org/eventi/genuino-clandestino_raduno-di-primavera/
LOCATION:Terrasana\, Battipaglia\, Salerno\, Italy
ATTACH;FMTTYPE=image/jpeg:https://ciurma.org/wp-content/uploads/2026/03/genuino-clandestino.jpeg
END:VEVENT
BEGIN:VEVENT
DTSTART;TZID=Europe/Rome:20260418T150000
DTEND;TZID=Europe/Rome:20260418T150000
DTSTAMP:20260419T171441
CREATED:20260414T114836Z
LAST-MODIFIED:20260414T114836Z
UID:671-1776524400-1776524400@ciurma.org
SUMMARY:FESTA DI AUTOFINANZIAMENTO PER IL GRAN CARNEVALE
DESCRIPTION:L’Infestanti organizza:\nla FESTA DI AUTOFINANZIAMENTO per il Gran Carnevale di Isola del Piano 2027 — e il tema è già tutto nel titolo:\n“Tarliamo la testa al toro”\, con pizza\, giochi\, mercatino\, spettacoli e musica!! \nUna grande festa per costruire insieme il carnevale del prossimo anno. Vi aspettiamo!! \nPrenotazione necessaria entro venerdì 17 al 3345409601.
URL:https://ciurma.org/eventi/festa-di-autofinanziamento-per-il-gran-carnevale/
LOCATION:Ca’ le Campane\, via Rossini\, 36\, Montefelcino\, Pesaro e Urbino\, 61030\, Italy
ATTACH;FMTTYPE=image/jpeg:https://ciurma.org/wp-content/uploads/2026/04/carnevale.jpeg
END:VEVENT
END:VCALENDAR