BEGIN:VCALENDAR
VERSION:2.0
PRODID:-//CIURMA - ECPv6.15.18//NONSGML v1.0//EN
CALSCALE:GREGORIAN
METHOD:PUBLISH
X-ORIGINAL-URL:https://ciurma.org
X-WR-CALDESC:Eventi per CIURMA
REFRESH-INTERVAL;VALUE=DURATION:PT1H
X-Robots-Tag:noindex
X-PUBLISHED-TTL:PT1H
BEGIN:VTIMEZONE
TZID:Europe/Rome
BEGIN:DAYLIGHT
TZOFFSETFROM:+0100
TZOFFSETTO:+0200
TZNAME:CEST
DTSTART:20250330T010000
END:DAYLIGHT
BEGIN:STANDARD
TZOFFSETFROM:+0200
TZOFFSETTO:+0100
TZNAME:CET
DTSTART:20251026T010000
END:STANDARD
BEGIN:DAYLIGHT
TZOFFSETFROM:+0100
TZOFFSETTO:+0200
TZNAME:CEST
DTSTART:20260329T010000
END:DAYLIGHT
BEGIN:STANDARD
TZOFFSETFROM:+0200
TZOFFSETTO:+0100
TZNAME:CET
DTSTART:20261025T010000
END:STANDARD
BEGIN:DAYLIGHT
TZOFFSETFROM:+0100
TZOFFSETTO:+0200
TZNAME:CEST
DTSTART:20270328T010000
END:DAYLIGHT
BEGIN:STANDARD
TZOFFSETFROM:+0200
TZOFFSETTO:+0100
TZNAME:CET
DTSTART:20271031T010000
END:STANDARD
END:VTIMEZONE
BEGIN:VEVENT
DTSTART;TZID=Europe/Rome:20260410T093000
DTEND;TZID=Europe/Rome:20260412T150000
DTSTAMP:20260419T171441
CREATED:20260327T132845Z
LAST-MODIFIED:20260327T133245Z
UID:615-1775813400-1776006000@ciurma.org
SUMMARY:CORSO_produzione e utilizzo del koji di riso
DESCRIPTION:Corso per imparare a preparare da soli alimenti fermentati alla maniera tradizionale giapponese. \nPer info su costi e svolgimento\, trovate i referenti di Annalisa Malerba a seguire.
URL:https://ciurma.org/eventi/corso_produzionee-utilizzo-del-koji-di-riso/
LOCATION:Mondavio (PU)
ATTACH;FMTTYPE=image/jpeg:https://ciurma.org/wp-content/uploads/2026/03/corso-koji.jpeg
ORGANIZER;CN="Annalisa Malerba":MAILTO:annalisa.malerba@gmail.com
END:VEVENT
BEGIN:VEVENT
DTSTART;TZID=Europe/Rome:20260411T100000
DTEND;TZID=Europe/Rome:20260411T100000
DTSTAMP:20260419T171441
CREATED:20260326T094259Z
LAST-MODIFIED:20260407T172807Z
UID:610-1775901600-1775901600@ciurma.org
SUMMARY:UN GELSO BIANCO IN MEMORIA DI MATTEO
DESCRIPTION:In ricordo di Matteo Borgogelli Ottaviani\, produttore dell’azienda agricola Kirkaia\, venuto a mancare il 27/02/2026\, verrà piantato un gelso bianco sulla proprietà di Mea e Alfredo\, in modo da creare un momento per la comunità per salutarlo e omaggiarlo. Un’occasione per chi non è riuscito a trovare un momento collettivo per salutarlo.
URL:https://ciurma.org/eventi/pianta-per-matteo/
LOCATION:casa Mea e Alfredo\, 43°36'34.7"N 12°49'56.7"E\, Cartoceto di Pergola\, Pesaro e Urbino\, 61045\, Italy
CATEGORIES:EVENTO CIURMA
END:VEVENT
END:VCALENDAR