BEGIN:VCALENDAR
VERSION:2.0
PRODID:-//CIURMA - ECPv6.15.18//NONSGML v1.0//EN
CALSCALE:GREGORIAN
METHOD:PUBLISH
X-ORIGINAL-URL:https://ciurma.org
X-WR-CALDESC:Eventi per CIURMA
REFRESH-INTERVAL;VALUE=DURATION:PT1H
X-Robots-Tag:noindex
X-PUBLISHED-TTL:PT1H
BEGIN:VTIMEZONE
TZID:Europe/Rome
BEGIN:DAYLIGHT
TZOFFSETFROM:+0100
TZOFFSETTO:+0200
TZNAME:CEST
DTSTART:20250330T010000
END:DAYLIGHT
BEGIN:STANDARD
TZOFFSETFROM:+0200
TZOFFSETTO:+0100
TZNAME:CET
DTSTART:20251026T010000
END:STANDARD
BEGIN:DAYLIGHT
TZOFFSETFROM:+0100
TZOFFSETTO:+0200
TZNAME:CEST
DTSTART:20260329T010000
END:DAYLIGHT
BEGIN:STANDARD
TZOFFSETFROM:+0200
TZOFFSETTO:+0100
TZNAME:CET
DTSTART:20261025T010000
END:STANDARD
BEGIN:DAYLIGHT
TZOFFSETFROM:+0100
TZOFFSETTO:+0200
TZNAME:CEST
DTSTART:20270328T010000
END:DAYLIGHT
BEGIN:STANDARD
TZOFFSETFROM:+0200
TZOFFSETTO:+0100
TZNAME:CET
DTSTART:20271031T010000
END:STANDARD
END:VTIMEZONE
BEGIN:VEVENT
DTSTART;TZID=Europe/Rome:20260409T150000
DTEND;TZID=Europe/Rome:20260409T170000
DTSTAMP:20260419T171458
CREATED:20260326T091411Z
LAST-MODIFIED:20260326T091918Z
UID:604-1775746800-1775754000@ciurma.org
SUMMARY:G.A.S. NOMADE_consegna
DESCRIPTION:Consegna settimanale dei prodotti acquistati tramite il G.A.S. Nomade di Fossombrone (G.A.S. – Gruppo di Acquisto Solidale) e distribuiti sul territorio attraverso una rete di staffette. \nQuesto giovedì consegna: \n-produttori locali \n-Diego D’Aloisio
URL:https://ciurma.org/eventi/g-a-s-nomade_consegna/
LOCATION:Sede Gas Nomade\, via Largo Tiratore\, 3\, Fossombrone\, 61034\, Italy
CATEGORIES:EVENTO CIURMA
END:VEVENT
END:VCALENDAR